BEGIN:VCALENDAR
VERSION:2.0
PRODID:-//Department of Linguistics, HKU - ECPv6.6.3//NONSGML v1.0//EN
CALSCALE:GREGORIAN
METHOD:PUBLISH
X-WR-CALNAME:Department of Linguistics, HKU
X-ORIGINAL-URL:https://linguistics.hku.hk
X-WR-CALDESC:Events for Department of Linguistics, HKU
REFRESH-INTERVAL;VALUE=DURATION:PT1H
X-Robots-Tag:noindex
X-PUBLISHED-TTL:PT1H
BEGIN:VTIMEZONE
TZID:Asia/Shanghai
BEGIN:STANDARD
TZOFFSETFROM:+0800
TZOFFSETTO:+0800
TZNAME:CST
DTSTART:20250101T000000
END:STANDARD
END:VTIMEZONE
BEGIN:VEVENT
DTSTART;TZID=Asia/Shanghai:20251113T160000
DTEND;TZID=Asia/Shanghai:20251113T173000
DTSTAMP:20260421T032143
CREATED:20251016T172700Z
LAST-MODIFIED:20251016T172700Z
UID:5881-1763049600-1763055000@linguistics.hku.hk
SUMMARY:[Linguistics Seminar on 13 Nov] Tone Development and Change
DESCRIPTION:Tone Development and Change \nDate: 13 Nov 2025 (Thu)\nTime: 4:00 pm\nVenue: Rm 3.04\, 3/F Run Run Shaw Tower\, Centennial Campus\, HKU
URL:https://linguistics.hku.hk/event/linguistics-seminar-on-13-nov-tone-development-and-change/
CATEGORIES:Event,Seminars
END:VEVENT
END:VCALENDAR